BEGIN:VCALENDAR
VERSION:2.0
PRODID:-//Deutsche Verkehrswacht, Kyffhäuser – Verkehrswacht Artern e.V. - ECPv6.15.20//NONSGML v1.0//EN
CALSCALE:GREGORIAN
METHOD:PUBLISH
X-WR-CALNAME:Deutsche Verkehrswacht, Kyffhäuser – Verkehrswacht Artern e.V.
X-ORIGINAL-URL:https://www.kyffhaeuser-verkehrswacht.de
X-WR-CALDESC:Veranstaltungen für Deutsche Verkehrswacht, Kyffhäuser – Verkehrswacht Artern e.V.
REFRESH-INTERVAL;VALUE=DURATION:PT1H
X-Robots-Tag:noindex
X-PUBLISHED-TTL:PT1H
BEGIN:VTIMEZONE
TZID:Europe/Berlin
BEGIN:DAYLIGHT
TZOFFSETFROM:+0100
TZOFFSETTO:+0200
TZNAME:CEST
DTSTART:20250330T010000
END:DAYLIGHT
BEGIN:STANDARD
TZOFFSETFROM:+0200
TZOFFSETTO:+0100
TZNAME:CET
DTSTART:20251026T010000
END:STANDARD
BEGIN:DAYLIGHT
TZOFFSETFROM:+0100
TZOFFSETTO:+0200
TZNAME:CEST
DTSTART:20260329T010000
END:DAYLIGHT
BEGIN:STANDARD
TZOFFSETFROM:+0200
TZOFFSETTO:+0100
TZNAME:CET
DTSTART:20261025T010000
END:STANDARD
BEGIN:DAYLIGHT
TZOFFSETFROM:+0100
TZOFFSETTO:+0200
TZNAME:CEST
DTSTART:20270328T010000
END:DAYLIGHT
BEGIN:STANDARD
TZOFFSETFROM:+0200
TZOFFSETTO:+0100
TZNAME:CET
DTSTART:20271031T010000
END:STANDARD
END:VTIMEZONE
BEGIN:VEVENT
DTSTART;TZID=Europe/Berlin:20260601T090000
DTEND;TZID=Europe/Berlin:20260601T120000
DTSTAMP:20260424T141930
CREATED:20260401T063501Z
LAST-MODIFIED:20260401T063501Z
UID:1566-1780304400-1780315200@www.kyffhaeuser-verkehrswacht.de
SUMMARY:"Kinder im Strassenverkehr" im Kindergarten "Magdalenenstraße" Artern
DESCRIPTION:Unsere Zielgruppe sind Kinder zwischen 3-6 Jahre\, vorwiegend die Vorschulkinder mit denen wir das Projekt der Deutschen Verkehrswacht „Kinder im Strassenverkehr“ umsetzen wollen.\nDabei werden Themenschwerpunkte:\nBedeutung des Helmtragens\, dabei werden Test mit Eiern und mit Melone durchgeführt\nÜberqueren der Strasse\, was ist zu beachten?\nWas ist ein Fussgängerüberweg\, wie verhalte ich mich?\nWas sind die wichtigsten Verkehrsschilder für Kinder? Wie funktioniert die Ampel und wie verhalte ich mich?\nWie wichtig ist Sichtbarkeit\, wenn man im Strassenverkehr unterwegs ist?\nMuss ich mich im Auto anschnallen? Ein Test mit dem Kindergurtschlitten kann dies verdeutlichen.\nWie sicher bin ich schon auf meinem Lauf- oder Fahrrad? Dazu befahren die Kinder einen Parcours.\nUnd damit alle Kinder fit sind gibt es eine Reihe von Stationen\, die für Bewegung und Geschicklichkeit sorgen.
URL:https://www.kyffhaeuser-verkehrswacht.de/event/kinder-im-strassenverkehr-im-kindergarten-magdalenenstrasse-artern/
END:VEVENT
BEGIN:VEVENT
DTSTART;TZID=Europe/Berlin:20260602T090000
DTEND;TZID=Europe/Berlin:20260602T120000
DTSTAMP:20260424T141930
CREATED:20260401T063659Z
LAST-MODIFIED:20260401T063659Z
UID:1568-1780390800-1780401600@www.kyffhaeuser-verkehrswacht.de
SUMMARY:"Kinder im Straßenverkehr" Kindergarten Oberheldrungen
DESCRIPTION:Unsere Zielgruppe sind Kinder zwischen 3-6 Jahre\, vorwiegend die Vorschulkinder mit denen wir das Projekt der Deutschen Verkehrswacht „Kinder im Strassenverkehr“ umsetzen wollen.\nDabei werden Themenschwerpunkte:\nBedeutung des Helmtragens\, dabei werden Test mit Eiern und mit Melone durchgeführt\nÜberqueren der Strasse\, was ist zu beachten?\nWas ist ein Fussgängerüberweg\, wie verhalte ich mich?\nWas sind die wichtigsten Verkehrsschilder für Kinder? Wie funktioniert die Ampel und wie verhalte ich mich?\nWie wichtig ist Sichtbarkeit\, wenn man im Strassenverkehr unterwegs ist?\nMuss ich mich im Auto anschnallen? Ein Test mit dem Kindergurtschlitten kann dies verdeutlichen.\nWie sicher bin ich schon auf meinem Lauf- oder Fahrrad? Dazu befahren die Kinder einen Parcours.\nUnd damit alle Kinder fit sind gibt es eine Reihe von Stationen\, die für Bewegung und Geschicklichkeit sorgen.
URL:https://www.kyffhaeuser-verkehrswacht.de/event/kinder-im-strassenverkehr-kindergarten-oberheldrungen/
LOCATION:06577 Stadt An der Schmücke\, OT Oberheldrunen\, Haaraser Weg 34
END:VEVENT
BEGIN:VEVENT
DTSTART;TZID=Europe/Berlin:20260603T090000
DTEND;TZID=Europe/Berlin:20260603T120000
DTSTAMP:20260424T141930
CREATED:20260401T063950Z
LAST-MODIFIED:20260401T063950Z
UID:1571-1780477200-1780488000@www.kyffhaeuser-verkehrswacht.de
SUMMARY:"Kinder im Straßenverkehr" in den Kindergärten Göllingen und Hachelbich
DESCRIPTION:Unsere Zielgruppe sind Kinder zwischen 3-6 Jahre\, vorwiegend die Vorschulkinder mit denen wir das Projekt der Deutschen Verkehrswacht „Kinder im Strassenverkehr“ umsetzen wollen.\nDabei werden Themenschwerpunkte:\nBedeutung des Helmtragens\, dabei werden Test mit Eiern und mit Melone durchgeführt\nÜberqueren der Strasse\, was ist zu beachten?\nWas ist ein Fussgängerüberweg\, wie verhalte ich mich?\nWas sind die wichtigsten Verkehrsschilder für Kinder? Wie funktioniert die Ampel und wie verhalte ich mich?\nWie wichtig ist Sichtbarkeit\, wenn man im Strassenverkehr unterwegs ist?\nMuss ich mich im Auto anschnallen? Ein Test mit dem Kindergurtschlitten kann dies verdeutlichen.\nWie sicher bin ich schon auf meinem Lauf- oder Fahrrad? Dazu befahren die Kinder einen Parcours.\nUnd damit alle Kinder fit sind gibt es eine Reihe von Stationen\, die für Bewegung und Geschicklichkeit sorgen. \nDie Veranstaltung findet mit den Kindergärten „Abenteuerland“ Hachelbich und dem Kindergarten“Zappelfrösche“ Göllingen auf dem angrenzenden Rasengrundstück des Kindergartens in Göllingen statt.
URL:https://www.kyffhaeuser-verkehrswacht.de/event/kinder-im-strassenverkehr-in-den-kindergaerten-goellingen-und-hachelbich/
END:VEVENT
BEGIN:VEVENT
DTSTART;TZID=Europe/Berlin:20260605T120000
DTEND;TZID=Europe/Berlin:20260605T180000
DTSTAMP:20260424T141930
CREATED:20260217T085601Z
LAST-MODIFIED:20260217T085601Z
UID:1518-1780660800-1780682400@www.kyffhaeuser-verkehrswacht.de
SUMMARY:"Fahrrad\, aber sicher" im Freizeitzentrum Artern
DESCRIPTION:
URL:https://www.kyffhaeuser-verkehrswacht.de/event/fahrrad-aber-sicher-im-freizeitzentrum-artern/
LOCATION:06556 Artern\, Steile Hohle  5
END:VEVENT
BEGIN:VEVENT
DTSTART;TZID=Europe/Berlin:20260608T090000
DTEND;TZID=Europe/Berlin:20260608T120000
DTSTAMP:20260424T141930
CREATED:20260217T085311Z
LAST-MODIFIED:20260217T085311Z
UID:1516-1780909200-1780920000@www.kyffhaeuser-verkehrswacht.de
SUMMARY:"Kids aktiv" in der Grundschule Oldisleben
DESCRIPTION:
URL:https://www.kyffhaeuser-verkehrswacht.de/event/kids-aktiv-in-der-grundschule-oldisleben/
END:VEVENT
BEGIN:VEVENT
DTSTART;TZID=Europe/Berlin:20260610T090000
DTEND;TZID=Europe/Berlin:20260610T120000
DTSTAMP:20260424T141930
CREATED:20260401T064228Z
LAST-MODIFIED:20260401T064228Z
UID:1573-1781082000-1781092800@www.kyffhaeuser-verkehrswacht.de
SUMMARY:"Kinder im Straßenverkehr" im Kindergarten "Bienchen" Heldrungen
DESCRIPTION:Unsere Zielgruppe sind Kinder zwischen 3-6 Jahre\, vorwiegend die Vorschulkinder mit denen wir das Projekt der Deutschen Verkehrswacht „Kinder im Strassenverkehr“ umsetzen wollen.\nDabei werden Themenschwerpunkte:\nBedeutung des Helmtragens\, dabei werden Test mit Eiern und mit Melone durchgeführt\nÜberqueren der Strasse\, was ist zu beachten?\nWas ist ein Fussgängerüberweg\, wie verhalte ich mich?\nWas sind die wichtigsten Verkehrsschilder für Kinder? Wie funktioniert die Ampel und wie verhalte ich mich?\nWie wichtig ist Sichtbarkeit\, wenn man im Strassenverkehr unterwegs ist?\nMuss ich mich im Auto anschnallen? Ein Test mit dem Kindergurtschlitten kann dies verdeutlichen.\nWie sicher bin ich schon auf meinem Lauf- oder Fahrrad? Dazu befahren die Kinder einen Parcours.\nUnd damit alle Kinder fit sind gibt es eine Reihe von Stationen\, die für Bewegung und Geschicklichkeit sorgen.
URL:https://www.kyffhaeuser-verkehrswacht.de/event/kinder-im-strassenverkehr-im-kindergarten-bienchen-heldrungen-2/
LOCATION:06577 Stadt An der Schmücke OT Heldrungen\, Arterner Tor 16
END:VEVENT
BEGIN:VEVENT
DTSTART;TZID=Europe/Berlin:20260627T080000
DTEND;TZID=Europe/Berlin:20260627T170000
DTSTAMP:20260424T141930
CREATED:20260401T070228Z
LAST-MODIFIED:20260401T070228Z
UID:1581-1782547200-1782579600@www.kyffhaeuser-verkehrswacht.de
SUMMARY:"Verkehrssicherheitstag Unterwegs in Thüringen" zum Hoffest im Hauteroda
DESCRIPTION:
URL:https://www.kyffhaeuser-verkehrswacht.de/event/verkehrssicherheitstag-unterwegs-in-thueringen-zum-hoffest-im-hauteroda/
LOCATION:06577 Hauteroda. Gelände Markusgemeinschaft Hauterodaer Str.
END:VEVENT
END:VCALENDAR