BEGIN:VCALENDAR
VERSION:2.0
PRODID:-//Deutsche Verkehrswacht, Kyffhäuser – Verkehrswacht Artern e.V. - ECPv6.15.20//NONSGML v1.0//EN
CALSCALE:GREGORIAN
METHOD:PUBLISH
X-WR-CALNAME:Deutsche Verkehrswacht, Kyffhäuser – Verkehrswacht Artern e.V.
X-ORIGINAL-URL:https://www.kyffhaeuser-verkehrswacht.de
X-WR-CALDESC:Veranstaltungen für Deutsche Verkehrswacht, Kyffhäuser – Verkehrswacht Artern e.V.
REFRESH-INTERVAL;VALUE=DURATION:PT1H
X-Robots-Tag:noindex
X-PUBLISHED-TTL:PT1H
BEGIN:VTIMEZONE
TZID:Europe/Berlin
BEGIN:DAYLIGHT
TZOFFSETFROM:+0100
TZOFFSETTO:+0200
TZNAME:CEST
DTSTART:20250330T010000
END:DAYLIGHT
BEGIN:STANDARD
TZOFFSETFROM:+0200
TZOFFSETTO:+0100
TZNAME:CET
DTSTART:20251026T010000
END:STANDARD
BEGIN:DAYLIGHT
TZOFFSETFROM:+0100
TZOFFSETTO:+0200
TZNAME:CEST
DTSTART:20260329T010000
END:DAYLIGHT
BEGIN:STANDARD
TZOFFSETFROM:+0200
TZOFFSETTO:+0100
TZNAME:CET
DTSTART:20261025T010000
END:STANDARD
BEGIN:DAYLIGHT
TZOFFSETFROM:+0100
TZOFFSETTO:+0200
TZNAME:CEST
DTSTART:20270328T010000
END:DAYLIGHT
BEGIN:STANDARD
TZOFFSETFROM:+0200
TZOFFSETTO:+0100
TZNAME:CET
DTSTART:20271031T010000
END:STANDARD
END:VTIMEZONE
BEGIN:VEVENT
DTSTART;TZID=Europe/Berlin:20260706T080000
DTEND;TZID=Europe/Berlin:20260706T130000
DTSTAMP:20260424T172502
CREATED:20260408T065644Z
LAST-MODIFIED:20260408T065644Z
UID:1600-1783324800-1783342800@www.kyffhaeuser-verkehrswacht.de
SUMMARY:Landesprojekt"Kids aktiv" in der Grundschule in Bottendorf
DESCRIPTION:
URL:https://www.kyffhaeuser-verkehrswacht.de/event/landesprojektkids-aktiv-in-der-grundschule-in-bottendorf/
LOCATION:06571 Rossleben- Wiehe OT Bottendorf
END:VEVENT
END:VCALENDAR