BEGIN:VCALENDAR
VERSION:2.0
PRODID:-//Deutsche Verkehrswacht, Kyffhäuser – Verkehrswacht Artern e.V. - ECPv6.15.20//NONSGML v1.0//EN
CALSCALE:GREGORIAN
METHOD:PUBLISH
X-ORIGINAL-URL:https://www.kyffhaeuser-verkehrswacht.de
X-WR-CALDESC:Veranstaltungen für Deutsche Verkehrswacht, Kyffhäuser – Verkehrswacht Artern e.V.
REFRESH-INTERVAL;VALUE=DURATION:PT1H
X-Robots-Tag:noindex
X-PUBLISHED-TTL:PT1H
BEGIN:VTIMEZONE
TZID:Europe/Berlin
BEGIN:DAYLIGHT
TZOFFSETFROM:+0100
TZOFFSETTO:+0200
TZNAME:CEST
DTSTART:20250330T010000
END:DAYLIGHT
BEGIN:STANDARD
TZOFFSETFROM:+0200
TZOFFSETTO:+0100
TZNAME:CET
DTSTART:20251026T010000
END:STANDARD
BEGIN:DAYLIGHT
TZOFFSETFROM:+0100
TZOFFSETTO:+0200
TZNAME:CEST
DTSTART:20260329T010000
END:DAYLIGHT
BEGIN:STANDARD
TZOFFSETFROM:+0200
TZOFFSETTO:+0100
TZNAME:CET
DTSTART:20261025T010000
END:STANDARD
BEGIN:DAYLIGHT
TZOFFSETFROM:+0100
TZOFFSETTO:+0200
TZNAME:CEST
DTSTART:20270328T010000
END:DAYLIGHT
BEGIN:STANDARD
TZOFFSETFROM:+0200
TZOFFSETTO:+0100
TZNAME:CET
DTSTART:20271031T010000
END:STANDARD
END:VTIMEZONE
BEGIN:VEVENT
DTSTART;TZID=Europe/Berlin:20260705T093000
DTEND;TZID=Europe/Berlin:20260705T173000
DTSTAMP:20260424T154513
CREATED:20260401T124258Z
LAST-MODIFIED:20260401T124258Z
UID:1591-1783243800-1783272600@www.kyffhaeuser-verkehrswacht.de
SUMMARY:Landesprogramm" Sicher unterwegs in Thüringen" zum Schützenfest in Oldisleben
DESCRIPTION:Mit diesem Programm wird die Kyffhäuser – Verkehrswacht wieder zum Schützenfest in Oldisleben am 5.7.2026 ganzen Tag dabei sein. Nutzen Sie die Gelegenheit\, um Ihr Wissen im Strassenverkehr aufzufrischen bzw. Ihr Reaktionsvermögen an verschiedenen Simulatoren zu testen. Wie werden folgende Simulatoren dabei haben; Motorrad\, Fahrrad für Kinder\, Bremssimulator mit Handyablenkung und den E-Scooter. Dazu haben wir als Reaktionstestgerät das Agility Board und das IPS Reaktionsystem zum Ausprobieren. Mit verschiedenen Alkoholstärken und einer Drogenbrillen können Sie einen Rauschbrillenparcours begehen\, um die Auswirkungen des Alkohols zu testen. Mit unserem Infostand gibt es Tipp und Hinweise für die Vermeidung von Gefahren im Strassenverkehr für verschiedene Altersklassen. Auch Kinder können mit verschiedenen Simulatoren und Reaktionstestgeräten ihr Wissen auffrischen und sich erproben. \nSie finden im Außengelände des Schützenhauses Oldisleben. \nWir freuen uns über Ihren Besuch.
URL:https://www.kyffhaeuser-verkehrswacht.de/event/landesprogramm-sicher-unterwegs-in-thueringen-zum-schuetzenfest-in-oldisleben/
LOCATION:06577 Stadt An der Schmücke OT Oldisleben Vor dem Holze 1
END:VEVENT
END:VCALENDAR