BEGIN:VCALENDAR
VERSION:2.0
PRODID:-//Deutsche Verkehrswacht, Kyffhäuser – Verkehrswacht Artern e.V. - ECPv6.15.20//NONSGML v1.0//EN
CALSCALE:GREGORIAN
METHOD:PUBLISH
X-WR-CALNAME:Deutsche Verkehrswacht, Kyffhäuser – Verkehrswacht Artern e.V.
X-ORIGINAL-URL:https://www.kyffhaeuser-verkehrswacht.de
X-WR-CALDESC:Veranstaltungen für Deutsche Verkehrswacht, Kyffhäuser – Verkehrswacht Artern e.V.
REFRESH-INTERVAL;VALUE=DURATION:PT1H
X-Robots-Tag:noindex
X-PUBLISHED-TTL:PT1H
BEGIN:VTIMEZONE
TZID:Europe/Berlin
BEGIN:DAYLIGHT
TZOFFSETFROM:+0100
TZOFFSETTO:+0200
TZNAME:CEST
DTSTART:20250330T010000
END:DAYLIGHT
BEGIN:STANDARD
TZOFFSETFROM:+0200
TZOFFSETTO:+0100
TZNAME:CET
DTSTART:20251026T010000
END:STANDARD
BEGIN:DAYLIGHT
TZOFFSETFROM:+0100
TZOFFSETTO:+0200
TZNAME:CEST
DTSTART:20260329T010000
END:DAYLIGHT
BEGIN:STANDARD
TZOFFSETFROM:+0200
TZOFFSETTO:+0100
TZNAME:CET
DTSTART:20261025T010000
END:STANDARD
BEGIN:DAYLIGHT
TZOFFSETFROM:+0100
TZOFFSETTO:+0200
TZNAME:CEST
DTSTART:20270328T010000
END:DAYLIGHT
BEGIN:STANDARD
TZOFFSETFROM:+0200
TZOFFSETTO:+0100
TZNAME:CET
DTSTART:20271031T010000
END:STANDARD
END:VTIMEZONE
BEGIN:VEVENT
DTSTART;TZID=Europe/Berlin:20260605T120000
DTEND;TZID=Europe/Berlin:20260605T180000
DTSTAMP:20260424T154844
CREATED:20260217T085601Z
LAST-MODIFIED:20260217T085601Z
UID:1518-1780660800-1780682400@www.kyffhaeuser-verkehrswacht.de
SUMMARY:"Fahrrad\, aber sicher" im Freizeitzentrum Artern
DESCRIPTION:
URL:https://www.kyffhaeuser-verkehrswacht.de/event/fahrrad-aber-sicher-im-freizeitzentrum-artern/
LOCATION:06556 Artern\, Steile Hohle  5
END:VEVENT
END:VCALENDAR